Workbook

Sheet Overzicht
G1: zorgencijfers.nl · 085 30 31 427
A2: Urenregistratie zzp
A3: Houd je uren bij voor het urencriterium (1.225 uur) en je facturen
A5: Gegevens
A6: Naam / bedrijf | B6: Jan Jansen Advies
A7: Jaar | B7: 2026
A8: Standaard uurtarief | B8: 85
A10: ■ | B10: Lichtblauwe vakken vul je zelf in. De rest rekent Excel voor je uit.
A12: Urencriterium
A13: Gewerkte uren dit jaar | B13: =SUM(Uren!$I$12:$I$611)
A14: Nodig voor het urencriterium | B14: 1225
A15: Behaald | B15: =IF(B14=0,0,MIN(1,B13/B14))
A16: Nog te gaan | B16: =MAX(0,B14-B13) | C16: =IF(B13>=B14,"✓ Urencriterium gehaald","Nog niet gehaald")
A19: Maand | B19: Uren totaal | C19: Declarabel | D19: Niet declarabel | E19: Omzet (declarabel)
A20: Januari | B20: =SUMIFS(Uren!$I$12:$I$611,Uren!$A$12:$A$611,">="&DATE($B$7,1,1),Uren!$A$12:$A$611,"<"&DATE($B$7,2,1)) | C20: =SUMIFS(Uren!$I$12:$I$611,Uren!$A$12:$A$611,">="&DATE($B$7,1,1),Uren!$A$12:$A$611,"<"&DATE($B$7,2,1),Uren!$D$12:$D$611,"Declarabel") | D20: =B20-C20 | E20: =SUMIFS(Uren!$K$12:$K$611,Uren!$A$12:$A$611,">="&DATE($B$7,1,1),Uren!$A$12:$A$611,"<"&DATE($B$7,2,1))
A21: Februari | B21: =SUMIFS(Uren!$I$12:$I$611,Uren!$A$12:$A$611,">="&DATE($B$7,2,1),Uren!$A$12:$A$611,"<"&DATE($B$7,3,1)) | C21: =SUMIFS(Uren!$I$12:$I$611,Uren!$A$12:$A$611,">="&DATE($B$7,2,1),Uren!$A$12:$A$611,"<"&DATE($B$7,3,1),Uren!$D$12:$D$611,"Declarabel") | D21: =B21-C21 | E21: =SUMIFS(Uren!$K$12:$K$611,Uren!$A$12:$A$611,">="&DATE($B$7,2,1),Uren!$A$12:$A$611,"<"&DATE($B$7,3,1))
A22: Maart | B22: =SUMIFS(Uren!$I$12:$I$611,Uren!$A$12:$A$611,">="&DATE($B$7,3,1),Uren!$A$12:$A$611,"<"&DATE($B$7,4,1)) | C22: =SUMIFS(Uren!$I$12:$I$611,Uren!$A$12:$A$611,">="&DATE($B$7,3,1),Uren!$A$12:$A$611,"<"&DATE($B$7,4,1),Uren!$D$12:$D$611,"Declarabel") | D22: =B22-C22 | E22: =SUMIFS(Uren!$K$12:$K$611,Uren!$A$12:$A$611,">="&DATE($B$7,3,1),Uren!$A$12:$A$611,"<"&DATE($B$7,4,1))
A23: April | B23: =SUMIFS(Uren!$I$12:$I$611,Uren!$A$12:$A$611,">="&DATE($B$7,4,1),Uren!$A$12:$A$611,"<"&DATE($B$7,5,1)) | C23: =SUMIFS(Uren!$I$12:$I$611,Uren!$A$12:$A$611,">="&DATE($B$7,4,1),Uren!$A$12:$A$611,"<"&DATE($B$7,5,1),Uren!$D$12:$D$611,"Declarabel") | D23: =B23-C23 | E23: =SUMIFS(Uren!$K$12:$K$611,Uren!$A$12:$A$611,">="&DATE($B$7,4,1),Uren!$A$12:$A$611,"<"&DATE($B$7,5,1))
A24: Mei | B24: =SUMIFS(Uren!$I$12:$I$611,Uren!$A$12:$A$611,">="&DATE($B$7,5,1),Uren!$A$12:$A$611,"<"&DATE($B$7,6,1)) | C24: =SUMIFS(Uren!$I$12:$I$611,Uren!$A$12:$A$611,">="&DATE($B$7,5,1),Uren!$A$12:$A$611,"<"&DATE($B$7,6,1),Uren!$D$12:$D$611,"Declarabel") | D24: =B24-C24 | E24: =SUMIFS(Uren!$K$12:$K$611,Uren!$A$12:$A$611,">="&DATE($B$7,5,1),Uren!$A$12:$A$611,"<"&DATE($B$7,6,1))
A25: Juni | B25: =SUMIFS(Uren!$I$12:$I$611,Uren!$A$12:$A$611,">="&DATE($B$7,6,1),Uren!$A$12:$A$611,"<"&DATE($B$7,7,1)) | C25: =SUMIFS(Uren!$I$12:$I$611,Uren!$A$12:$A$611,">="&DATE($B$7,6,1),Uren!$A$12:$A$611,"<"&DATE($B$7,7,1),Uren!$D$12:$D$611,"Declarabel") | D25: =B25-C25 | E25: =SUMIFS(Uren!$K$12:$K$611,Uren!$A$12:$A$611,">="&DATE($B$7,6,1),Uren!$A$12:$A$611,"<"&DATE($B$7,7,1))
A26: Juli | B26: =SUMIFS(Uren!$I$12:$I$611,Uren!$A$12:$A$611,">="&DATE($B$7,7,1),Uren!$A$12:$A$611,"<"&DATE($B$7,8,1)) | C26: =SUMIFS(Uren!$I$12:$I$611,Uren!$A$12:$A$611,">="&DATE($B$7,7,1),Uren!$A$12:$A$611,"<"&DATE($B$7,8,1),Uren!$D$12:$D$611,"Declarabel") | D26: =B26-C26 | E26: =SUMIFS(Uren!$K$12:$K$611,Uren!$A$12:$A$611,">="&DATE($B$7,7,1),Uren!$A$12:$A$611,"<"&DATE($B$7,8,1))
A27: Augustus | B27: =SUMIFS(Uren!$I$12:$I$611,Uren!$A$12:$A$611,">="&DATE($B$7,8,1),Uren!$A$12:$A$611,"<"&DATE($B$7,9,1)) | C27: =SUMIFS(Uren!$I$12:$I$611,Uren!$A$12:$A$611,">="&DATE($B$7,8,1),Uren!$A$12:$A$611,"<"&DATE($B$7,9,1),Uren!$D$12:$D$611,"Declarabel") | D27: =B27-C27 | E27: =SUMIFS(Uren!$K$12:$K$611,Uren!$A$12:$A$611,">="&DATE($B$7,8,1),Uren!$A$12:$A$611,"<"&DATE($B$7,9,1))
A28: September | B28: =SUMIFS(Uren!$I$12:$I$611,Uren!$A$12:$A$611,">="&DATE($B$7,9,1),Uren!$A$12:$A$611,"<"&DATE($B$7,10,1)) | C28: =SUMIFS(Uren!$I$12:$I$611,Uren!$A$12:$A$611,">="&DATE($B$7,9,1),Uren!$A$12:$A$611,"<"&DATE($B$7,10,1),Uren!$D$12:$D$611,"Declarabel") | D28: =B28-C28 | E28: =SUMIFS(Uren!$K$12:$K$611,Uren!$A$12:$A$611,">="&DATE($B$7,9,1),Uren!$A$12:$A$611,"<"&DATE($B$7,10,1))
A29: Oktober | B29: =SUMIFS(Uren!$I$12:$I$611,Uren!$A$12:$A$611,">="&DATE($B$7,10,1),Uren!$A$12:$A$611,"<"&DATE($B$7,11,1)) | C29: =SUMIFS(Uren!$I$12:$I$611,Uren!$A$12:$A$611,">="&DATE($B$7,10,1),Uren!$A$12:$A$611,"<"&DATE($B$7,11,1),Uren!$D$12:$D$611,"Declarabel") | D29: =B29-C29 | E29: =SUMIFS(Uren!$K$12:$K$611,Uren!$A$12:$A$611,">="&DATE($B$7,10,1),Uren!$A$12:$A$611,"<"&DATE($B$7,11,1))
A30: November | B30: =SUMIFS(Uren!$I$12:$I$611,Uren!$A$12:$A$611,">="&DATE($B$7,11,1),Uren!$A$12:$A$611,"<"&DATE($B$7,12,1)) | C30: =SUMIFS(Uren!$I$12:$I$611,Uren!$A$12:$A$611,">="&DATE($B$7,11,1),Uren!$A$12:$A$611,"<"&DATE($B$7,12,1),Uren!$D$12:$D$611,"Declarabel") | D30: =B30-C30 | E30: =SUMIFS(Uren!$K$12:$K$611,Uren!$A$12:$A$611,">="&DATE($B$7,11,1),Uren!$A$12:$A$611,"<"&DATE($B$7,12,1))
A31: December | B31: =SUMIFS(Uren!$I$12:$I$611,Uren!$A$12:$A$611,">="&DATE($B$7,12,1),Uren!$A$12:$A$611,"<"&DATE($B$7+1,1,1)) | C31: =SUMIFS(Uren!$I$12:$I$611,Uren!$A$12:$A$611,">="&DATE($B$7,12,1),Uren!$A$12:$A$611,"<"&DATE($B$7+1,1,1),Uren!$D$12:$D$611,"Declarabel") | D31: =B31-C31 | E31: =SUMIFS(Uren!$K$12:$K$611,Uren!$A$12:$A$611,">="&DATE($B$7,12,1),Uren!$A$12:$A$611,"<"&DATE($B$7+1,1,1))
A32: Totaal | B32: =SUM(B20:B31) | C32: =SUM(C20:C31) | D32: =SUM(D20:D31) | E32: =SUM(E20:E31)
A35: Soort werk | B35: Uren | C35: Aandeel
A36: Declarabel | B36: =SUMIF(Uren!$D$12:$D$611,"Declarabel",Uren!$I$12:$I$611) | C36: =IF($B$13=0,0,B36/$B$13)
A37: Administratie | B37: =SUMIF(Uren!$D$12:$D$611,"Administratie",Uren!$I$12:$I$611) | C37: =IF($B$13=0,0,B37/$B$13)
A38: Acquisitie en marketing | B38: =SUMIF(Uren!$D$12:$D$611,"Acquisitie en marketing",Uren!$I$12:$I$611) | C38: =IF($B$13=0,0,B38/$B$13)
A39: Opleiding | B39: =SUMIF(Uren!$D$12:$D$611,"Opleiding",Uren!$I$12:$I$611) | C39: =IF($B$13=0,0,B39/$B$13)
A40: Reistijd | B40: =SUMIF(Uren!$D$12:$D$611,"Reistijd",Uren!$I$12:$I$611) | C40: =IF($B$13=0,0,B40/$B$13)
A41: Overig | B41: =SUMIF(Uren!$D$12:$D$611,"Overig",Uren!$I$12:$I$611) | C41: =IF($B$13=0,0,B41/$B$13)

Sheet Uren
K1: zorgencijfers.nl · 085 30 31 427
A2: Uren
A3: Vul per werkblok één regel in
A5: Totaal uren | B5: =SUM($I$12:$I$611) | C5: Omzet declarabel | D5: =SUM($K$12:$K$611)
A7: ■ | B7: Vul begin- en eindtijd in (bijv. 9:00 en 17:30) en de pauze in minuten; of vul de uren zelf in bij "Uren zonder tijden".
B8: Leeg tarief = standaard uurtarief van het overzicht. Alleen declarabele uren tellen mee voor de omzet.
A11: Datum | B11: Klant / project | C11: Omschrijving werkzaamheden | D11: Soort werk | E11: Begin | F11: Eind | G11: Pauze (min) | H11: Uren zonder tijden | I11: Uren | J11: Tarief | K11: Bedrag
A12: 46027 | B12: Bakkerij De Korst | C12: Advies inrichting administratie | D12: Declarabel | E12: 0.375 | F12: 0.52083333 | G12: 15 | I12: =IF(AND(ISNUMBER(E12),ISNUMBER(F12)),ROUND(MOD(F12-E12,1)*24-N(G12)/60,2),IF(ISNUMBER(H12),H12,"")) | K12: =IF(AND(D12="Declarabel",ISNUMBER(I12)),I12*IF(ISNUMBER(J12),J12,Overzicht!$B$8),"")
I13: =IF(AND(ISNUMBER(E13),ISNUMBER(F13)),ROUND(MOD(F13-E13,1)*24-N(G13)/60,2),IF(ISNUMBER(H13),H13,"")) | K13: =IF(AND(D13="Declarabel",ISNUMBER(I13)),I13*IF(ISNUMBER(J13),J13,Overzicht!$B$8),"")
I14: =IF(AND(ISNUMBER(E14),ISNUMBER(F14)),ROUND(MOD(F14-E14,1)*24-N(G14)/60,2),IF(ISNUMBER(H14),H14,"")) | K14: =IF(AND(D14="Declarabel",ISNUMBER(I14)),I14*IF(ISNUMBER(J14),J14,Overzicht!$B$8),"")
I15: =IF(AND(ISNUMBER(E15),ISNUMBER(F15)),ROUND(MOD(F15-E15,1)*24-N(G15)/60,2),IF(ISNUMBER(H15),H15,"")) | K15: =IF(AND(D15="Declarabel",ISNUMBER(I15)),I15*IF(ISNUMBER(J15),J15,Overzicht!$B$8),"")
I16: =IF(AND(ISNUMBER(E16),ISNUMBER(F16)),ROUND(MOD(F16-E16,1)*24-N(G16)/60,2),IF(ISNUMBER(H16),H16,"")) | K16: =IF(AND(D16="Declarabel",ISNUMBER(I16)),I16*IF(ISNUMBER(J16),J16,Overzicht!$B$8),"")
I17: =IF(AND(ISNUMBER(E17),ISNUMBER(F17)),ROUND(MOD(F17-E17,1)*24-N(G17)/60,2),IF(ISNUMBER(H17),H17,"")) | K17: =IF(AND(D17="Declarabel",ISNUMBER(I17)),I17*IF(ISNUMBER(J17),J17,Overzicht!$B$8),"")
I18: =IF(AND(ISNUMBER(E18),ISNUMBER(F18)),ROUND(MOD(F18-E18,1)*24-N(G18)/60,2),IF(ISNUMBER(H18),H18,"")) | K18: =IF(AND(D18="Declarabel",ISNUMBER(I18)),I18*IF(ISNUMBER(J18),J18,Overzicht!$B$8),"")
I19: =IF(AND(ISNUMBER(E19),ISNUMBER(F19)),ROUND(MOD(F19-E19,1)*24-N(G19)/60,2),IF(ISNUMBER(H19),H19,"")) | K19: =IF(AND(D19="Declarabel",ISNUMBER(I19)),I19*IF(ISNUMBER(J19),J19,Overzicht!$B$8),"")
I20: =IF(AND(ISNUMBER(E20),ISNUMBER(F20)),ROUND(MOD(F20-E20,1)*24-N(G20)/60,2),IF(ISNUMBER(H20),H20,"")) | K20: =IF(AND(D20="Declarabel",ISNUMBER(I20)),I20*IF(ISNUMBER(J20),J20,Overzicht!$B$8),"")
I21: =IF(AND(ISNUMBER(E21),ISNUMBER(F21)),ROUND(MOD(F21-E21,1)*24-N(G21)/60,2),IF(ISNUMBER(H21),H21,"")) | K21: =IF(AND(D21="Declarabel",ISNUMBER(I21)),I21*IF(ISNUMBER(J21),J21,Overzicht!$B$8),"")
I22: =IF(AND(ISNUMBER(E22),ISNUMBER(F22)),ROUND(MOD(F22-E22,1)*24-N(G22)/60,2),IF(ISNUMBER(H22),H22,"")) | K22: =IF(AND(D22="Declarabel",ISNUMBER(I22)),I22*IF(ISNUMBER(J22),J22,Overzicht!$B$8),"")
I23: =IF(AND(ISNUMBER(E23),ISNUMBER(F23)),ROUND(MOD(F23-E23,1)*24-N(G23)/60,2),IF(ISNUMBER(H23),H23,"")) | K23: =IF(AND(D23="Declarabel",ISNUMBER(I23)),I23*IF(ISNUMBER(J23),J23,Overzicht!$B$8),"")
I24: =IF(AND(ISNUMBER(E24),ISNUMBER(F24)),ROUND(MOD(F24-E24,1)*24-N(G24)/60,2),IF(ISNUMBER(H24),H24,"")) | K24: =IF(AND(D24="Declarabel",ISNUMBER(I24)),I24*IF(ISNUMBER(J24),J24,Overzicht!$B$8),"")
... I611: =IF(AND(ISNUMBER(E611),ISNUMBER(F611)),ROUND(MOD(F611-E611,1)*24-N(G611)/60,2),IF(ISNUMBER(H611),H611,"")) | K611: =IF(AND(D611="Declarabel",ISNUMBER(I611)),I611*IF(ISNUMBER(J611),J611,Overzicht!$B$8),"")

Sheet Uitleg
H1: zorgencijfers.nl · 085 30 31 427
A2: Urenregistratie zzp
A3: Zo gebruik je dit bestand
A6: Zo vul je het in
A7: • | B7: Vul op het blad Overzicht je naam, het jaar en je standaard uurtarief in.
A8: • | B8: Vul op het blad Uren per werkblok een regel in: datum, klant of project, wat je hebt gedaan en de soort werk.
A9: • | B9: Vul begin- en eindtijd in (bijvoorbeeld 9:00 en 17:30) en eventueel de pauze in minuten. Excel rekent de uren uit. Liever direct de uren? Vul dan "Uren zonder tijden" in.
A10: • | B10: Kies Declarabel voor uren die je aan een klant factureert. Excel rekent het bedrag uit met het tarief op de regel of je standaardtarief.
A12: Urencriterium
A13: • | B13: Voor de zelfstandigenaftrek moet je minimaal 1.225 uur per jaar aan je onderneming besteden. Ook administratie, acquisitie, opleiding en reistijd tellen mee, niet alleen declarabele uren.
A14: • | B14: Het overzicht laat zien hoeveel uur je hebt en hoeveel je nog nodig hebt. Houd het bij gedurende het jaar: bij een controle moet je de uren aannemelijk kunnen maken.
A16: Tips
A17: • | B17: Gebruik het overzicht per maand om je facturen te controleren.
A18: • | B18: Lever het bestand aan het eind van het jaar bij ons aan voor je aangifte inkomstenbelasting.
A20: Vragen? Bel 085 30 31 427, app ons of mail info@zorgencijfers.nl. Wij helpen je graag.
