Workbook

Sheet Kasboek
I1: zorgencijfers.nl · 085 30 31 427
A2: Kasboek
A3: Kasadministratie: alle contante ontvangsten en uitgaven met een doorlopend saldo
A5: Bedrijfsnaam | B5: Bakkerij De Korst | E5: Ontvangsten | F5: =SUM($F$12:$F$511)
A6: Jaar | B6: 2026 | E6: Uitgaven | F6: =SUM($G$12:$G$511)
A7: Beginsaldo kas | B7: 150 | E7: Eindsaldo kas | F7: =B7+F5-F6
A9: ■ | B9: Lichtblauwe vakken vul je in. Per regel óf een ontvangst óf een uitgave. Bedragen inclusief btw.
A11: Datum | B11: Bonnummer | C11: Omschrijving | D11: Categorie | E11: Btw | F11: Ontvangst | G11: Uitgave | H11: Btw-bedrag | I11: Saldo kas
A12: 46024 | B12: K-001 | C12: Dagomzet winkel | D12: Omzet contant | E12: 9% | F12: 412.5 | H12: =IF(N(F12)+N(G12)=0,"",ROUND((N(F12)+N(G12))*IF(E12="21%",21,IF(E12="9%",9,0))/(100+IF(E12="21%",21,IF(E12="9%",9,0))),2)) | I12: =IF(N(F12)+N(G12)=0,"",$B$7+SUM($F$12:F12)-SUM($G$12:G12))
A13: 46025 | B13: K-002 | C13: Schoonmaakmiddelen Action | D13: Kantoorkosten | E13: 21% | G13: 18.95 | H13: =IF(N(F13)+N(G13)=0,"",ROUND((N(F13)+N(G13))*IF(E13="21%",21,IF(E13="9%",9,0))/(100+IF(E13="21%",21,IF(E13="9%",9,0))),2)) | I13: =IF(N(F13)+N(G13)=0,"",$B$7+SUM($F$12:F13)-SUM($G$12:G13))
H14: =IF(N(F14)+N(G14)=0,"",ROUND((N(F14)+N(G14))*IF(E14="21%",21,IF(E14="9%",9,0))/(100+IF(E14="21%",21,IF(E14="9%",9,0))),2)) | I14: =IF(N(F14)+N(G14)=0,"",$B$7+SUM($F$12:F14)-SUM($G$12:G14))
H15: =IF(N(F15)+N(G15)=0,"",ROUND((N(F15)+N(G15))*IF(E15="21%",21,IF(E15="9%",9,0))/(100+IF(E15="21%",21,IF(E15="9%",9,0))),2)) | I15: =IF(N(F15)+N(G15)=0,"",$B$7+SUM($F$12:F15)-SUM($G$12:G15))
H16: =IF(N(F16)+N(G16)=0,"",ROUND((N(F16)+N(G16))*IF(E16="21%",21,IF(E16="9%",9,0))/(100+IF(E16="21%",21,IF(E16="9%",9,0))),2)) | I16: =IF(N(F16)+N(G16)=0,"",$B$7+SUM($F$12:F16)-SUM($G$12:G16))
H17: =IF(N(F17)+N(G17)=0,"",ROUND((N(F17)+N(G17))*IF(E17="21%",21,IF(E17="9%",9,0))/(100+IF(E17="21%",21,IF(E17="9%",9,0))),2)) | I17: =IF(N(F17)+N(G17)=0,"",$B$7+SUM($F$12:F17)-SUM($G$12:G17))
H18: =IF(N(F18)+N(G18)=0,"",ROUND((N(F18)+N(G18))*IF(E18="21%",21,IF(E18="9%",9,0))/(100+IF(E18="21%",21,IF(E18="9%",9,0))),2)) | I18: =IF(N(F18)+N(G18)=0,"",$B$7+SUM($F$12:F18)-SUM($G$12:G18))
H19: =IF(N(F19)+N(G19)=0,"",ROUND((N(F19)+N(G19))*IF(E19="21%",21,IF(E19="9%",9,0))/(100+IF(E19="21%",21,IF(E19="9%",9,0))),2)) | I19: =IF(N(F19)+N(G19)=0,"",$B$7+SUM($F$12:F19)-SUM($G$12:G19))
H20: =IF(N(F20)+N(G20)=0,"",ROUND((N(F20)+N(G20))*IF(E20="21%",21,IF(E20="9%",9,0))/(100+IF(E20="21%",21,IF(E20="9%",9,0))),2)) | I20: =IF(N(F20)+N(G20)=0,"",$B$7+SUM($F$12:F20)-SUM($G$12:G20))
H21: =IF(N(F21)+N(G21)=0,"",ROUND((N(F21)+N(G21))*IF(E21="21%",21,IF(E21="9%",9,0))/(100+IF(E21="21%",21,IF(E21="9%",9,0))),2)) | I21: =IF(N(F21)+N(G21)=0,"",$B$7+SUM($F$12:F21)-SUM($G$12:G21))
H22: =IF(N(F22)+N(G22)=0,"",ROUND((N(F22)+N(G22))*IF(E22="21%",21,IF(E22="9%",9,0))/(100+IF(E22="21%",21,IF(E22="9%",9,0))),2)) | I22: =IF(N(F22)+N(G22)=0,"",$B$7+SUM($F$12:F22)-SUM($G$12:G22))
H23: =IF(N(F23)+N(G23)=0,"",ROUND((N(F23)+N(G23))*IF(E23="21%",21,IF(E23="9%",9,0))/(100+IF(E23="21%",21,IF(E23="9%",9,0))),2)) | I23: =IF(N(F23)+N(G23)=0,"",$B$7+SUM($F$12:F23)-SUM($G$12:G23))
H24: =IF(N(F24)+N(G24)=0,"",ROUND((N(F24)+N(G24))*IF(E24="21%",21,IF(E24="9%",9,0))/(100+IF(E24="21%",21,IF(E24="9%",9,0))),2)) | I24: =IF(N(F24)+N(G24)=0,"",$B$7+SUM($F$12:F24)-SUM($G$12:G24))
H25: =IF(N(F25)+N(G25)=0,"",ROUND((N(F25)+N(G25))*IF(E25="21%",21,IF(E25="9%",9,0))/(100+IF(E25="21%",21,IF(E25="9%",9,0))),2)) | I25: =IF(N(F25)+N(G25)=0,"",$B$7+SUM($F$12:F25)-SUM($G$12:G25))
... H511: =IF(N(F511)+N(G511)=0,"",ROUND((N(F511)+N(G511))*IF(E511="21%",21,IF(E511="9%",9,0))/(100+IF(E511="21%",21,IF(E511="9%",9,0))),2)) | I511: =IF(N(F511)+N(G511)=0,"",$B$7+SUM($F$12:F511)-SUM($G$12:G511))

Sheet Per maand
G1: zorgencijfers.nl · 085 30 31 427
A2: Kasboek per maand
A3: Handig voor je btw-aangifte en om de kas te controleren
A5: Maand | B5: Ontvangsten | C5: Uitgaven | D5: Btw over ontvangsten | E5: Btw over uitgaven | F5: Saldo einde maand | G5: Kas negatief?
A6: Januari | B6: =SUMIFS(Kasboek!$F$12:$F$511,Kasboek!$A$12:$A$511,">="&DATE(Kasboek!$B$6,1,1),Kasboek!$A$12:$A$511,"<"&DATE(Kasboek!$B$6,2,1)) | C6: =SUMIFS(Kasboek!$G$12:$G$511,Kasboek!$A$12:$A$511,">="&DATE(Kasboek!$B$6,1,1),Kasboek!$A$12:$A$511,"<"&DATE(Kasboek!$B$6,2,1)) | D6: =SUMIFS(Kasboek!$H$12:$H$511,Kasboek!$A$12:$A$511,">="&DATE(Kasboek!$B$6,1,1),Kasboek!$A$12:$A$511,"<"&DATE(Kasboek!$B$6,2,1),Kasboek!$F$12:$F$511,">0") | E6: =SUMIFS(Kasboek!$H$12:$H$511,Kasboek!$A$12:$A$511,">="&DATE(Kasboek!$B$6,1,1),Kasboek!$A$12:$A$511,"<"&DATE(Kasboek!$B$6,2,1),Kasboek!$G$12:$G$511,">0") | F6: =Kasboek!$B$7+SUMIFS(Kasboek!$F$12:$F$511,Kasboek!$A$12:$A$511,"<"&DATE(Kasboek!$B$6,2,1))-SUMIFS(Kasboek!$G$12:$G$511,Kasboek!$A$12:$A$511,"<"&DATE(Kasboek!$B$6,2,1)) | G6: =IF(F6<0,"Let op: negatief","")
A7: Februari | B7: =SUMIFS(Kasboek!$F$12:$F$511,Kasboek!$A$12:$A$511,">="&DATE(Kasboek!$B$6,2,1),Kasboek!$A$12:$A$511,"<"&DATE(Kasboek!$B$6,3,1)) | C7: =SUMIFS(Kasboek!$G$12:$G$511,Kasboek!$A$12:$A$511,">="&DATE(Kasboek!$B$6,2,1),Kasboek!$A$12:$A$511,"<"&DATE(Kasboek!$B$6,3,1)) | D7: =SUMIFS(Kasboek!$H$12:$H$511,Kasboek!$A$12:$A$511,">="&DATE(Kasboek!$B$6,2,1),Kasboek!$A$12:$A$511,"<"&DATE(Kasboek!$B$6,3,1),Kasboek!$F$12:$F$511,">0") | E7: =SUMIFS(Kasboek!$H$12:$H$511,Kasboek!$A$12:$A$511,">="&DATE(Kasboek!$B$6,2,1),Kasboek!$A$12:$A$511,"<"&DATE(Kasboek!$B$6,3,1),Kasboek!$G$12:$G$511,">0") | F7: =Kasboek!$B$7+SUMIFS(Kasboek!$F$12:$F$511,Kasboek!$A$12:$A$511,"<"&DATE(Kasboek!$B$6,3,1))-SUMIFS(Kasboek!$G$12:$G$511,Kasboek!$A$12:$A$511,"<"&DATE(Kasboek!$B$6,3,1)) | G7: =IF(F7<0,"Let op: negatief","")
A8: Maart | B8: =SUMIFS(Kasboek!$F$12:$F$511,Kasboek!$A$12:$A$511,">="&DATE(Kasboek!$B$6,3,1),Kasboek!$A$12:$A$511,"<"&DATE(Kasboek!$B$6,4,1)) | C8: =SUMIFS(Kasboek!$G$12:$G$511,Kasboek!$A$12:$A$511,">="&DATE(Kasboek!$B$6,3,1),Kasboek!$A$12:$A$511,"<"&DATE(Kasboek!$B$6,4,1)) | D8: =SUMIFS(Kasboek!$H$12:$H$511,Kasboek!$A$12:$A$511,">="&DATE(Kasboek!$B$6,3,1),Kasboek!$A$12:$A$511,"<"&DATE(Kasboek!$B$6,4,1),Kasboek!$F$12:$F$511,">0") | E8: =SUMIFS(Kasboek!$H$12:$H$511,Kasboek!$A$12:$A$511,">="&DATE(Kasboek!$B$6,3,1),Kasboek!$A$12:$A$511,"<"&DATE(Kasboek!$B$6,4,1),Kasboek!$G$12:$G$511,">0") | F8: =Kasboek!$B$7+SUMIFS(Kasboek!$F$12:$F$511,Kasboek!$A$12:$A$511,"<"&DATE(Kasboek!$B$6,4,1))-SUMIFS(Kasboek!$G$12:$G$511,Kasboek!$A$12:$A$511,"<"&DATE(Kasboek!$B$6,4,1)) | G8: =IF(F8<0,"Let op: negatief","")
A9: April | B9: =SUMIFS(Kasboek!$F$12:$F$511,Kasboek!$A$12:$A$511,">="&DATE(Kasboek!$B$6,4,1),Kasboek!$A$12:$A$511,"<"&DATE(Kasboek!$B$6,5,1)) | C9: =SUMIFS(Kasboek!$G$12:$G$511,Kasboek!$A$12:$A$511,">="&DATE(Kasboek!$B$6,4,1),Kasboek!$A$12:$A$511,"<"&DATE(Kasboek!$B$6,5,1)) | D9: =SUMIFS(Kasboek!$H$12:$H$511,Kasboek!$A$12:$A$511,">="&DATE(Kasboek!$B$6,4,1),Kasboek!$A$12:$A$511,"<"&DATE(Kasboek!$B$6,5,1),Kasboek!$F$12:$F$511,">0") | E9: =SUMIFS(Kasboek!$H$12:$H$511,Kasboek!$A$12:$A$511,">="&DATE(Kasboek!$B$6,4,1),Kasboek!$A$12:$A$511,"<"&DATE(Kasboek!$B$6,5,1),Kasboek!$G$12:$G$511,">0") | F9: =Kasboek!$B$7+SUMIFS(Kasboek!$F$12:$F$511,Kasboek!$A$12:$A$511,"<"&DATE(Kasboek!$B$6,5,1))-SUMIFS(Kasboek!$G$12:$G$511,Kasboek!$A$12:$A$511,"<"&DATE(Kasboek!$B$6,5,1)) | G9: =IF(F9<0,"Let op: negatief","")
A10: Mei | B10: =SUMIFS(Kasboek!$F$12:$F$511,Kasboek!$A$12:$A$511,">="&DATE(Kasboek!$B$6,5,1),Kasboek!$A$12:$A$511,"<"&DATE(Kasboek!$B$6,6,1)) | C10: =SUMIFS(Kasboek!$G$12:$G$511,Kasboek!$A$12:$A$511,">="&DATE(Kasboek!$B$6,5,1),Kasboek!$A$12:$A$511,"<"&DATE(Kasboek!$B$6,6,1)) | D10: =SUMIFS(Kasboek!$H$12:$H$511,Kasboek!$A$12:$A$511,">="&DATE(Kasboek!$B$6,5,1),Kasboek!$A$12:$A$511,"<"&DATE(Kasboek!$B$6,6,1),Kasboek!$F$12:$F$511,">0") | E10: =SUMIFS(Kasboek!$H$12:$H$511,Kasboek!$A$12:$A$511,">="&DATE(Kasboek!$B$6,5,1),Kasboek!$A$12:$A$511,"<"&DATE(Kasboek!$B$6,6,1),Kasboek!$G$12:$G$511,">0") | F10: =Kasboek!$B$7+SUMIFS(Kasboek!$F$12:$F$511,Kasboek!$A$12:$A$511,"<"&DATE(Kasboek!$B$6,6,1))-SUMIFS(Kasboek!$G$12:$G$511,Kasboek!$A$12:$A$511,"<"&DATE(Kasboek!$B$6,6,1)) | G10: =IF(F10<0,"Let op: negatief","")
A11: Juni | B11: =SUMIFS(Kasboek!$F$12:$F$511,Kasboek!$A$12:$A$511,">="&DATE(Kasboek!$B$6,6,1),Kasboek!$A$12:$A$511,"<"&DATE(Kasboek!$B$6,7,1)) | C11: =SUMIFS(Kasboek!$G$12:$G$511,Kasboek!$A$12:$A$511,">="&DATE(Kasboek!$B$6,6,1),Kasboek!$A$12:$A$511,"<"&DATE(Kasboek!$B$6,7,1)) | D11: =SUMIFS(Kasboek!$H$12:$H$511,Kasboek!$A$12:$A$511,">="&DATE(Kasboek!$B$6,6,1),Kasboek!$A$12:$A$511,"<"&DATE(Kasboek!$B$6,7,1),Kasboek!$F$12:$F$511,">0") | E11: =SUMIFS(Kasboek!$H$12:$H$511,Kasboek!$A$12:$A$511,">="&DATE(Kasboek!$B$6,6,1),Kasboek!$A$12:$A$511,"<"&DATE(Kasboek!$B$6,7,1),Kasboek!$G$12:$G$511,">0") | F11: =Kasboek!$B$7+SUMIFS(Kasboek!$F$12:$F$511,Kasboek!$A$12:$A$511,"<"&DATE(Kasboek!$B$6,7,1))-SUMIFS(Kasboek!$G$12:$G$511,Kasboek!$A$12:$A$511,"<"&DATE(Kasboek!$B$6,7,1)) | G11: =IF(F11<0,"Let op: negatief","")
A12: Juli | B12: =SUMIFS(Kasboek!$F$12:$F$511,Kasboek!$A$12:$A$511,">="&DATE(Kasboek!$B$6,7,1),Kasboek!$A$12:$A$511,"<"&DATE(Kasboek!$B$6,8,1)) | C12: =SUMIFS(Kasboek!$G$12:$G$511,Kasboek!$A$12:$A$511,">="&DATE(Kasboek!$B$6,7,1),Kasboek!$A$12:$A$511,"<"&DATE(Kasboek!$B$6,8,1)) | D12: =SUMIFS(Kasboek!$H$12:$H$511,Kasboek!$A$12:$A$511,">="&DATE(Kasboek!$B$6,7,1),Kasboek!$A$12:$A$511,"<"&DATE(Kasboek!$B$6,8,1),Kasboek!$F$12:$F$511,">0") | E12: =SUMIFS(Kasboek!$H$12:$H$511,Kasboek!$A$12:$A$511,">="&DATE(Kasboek!$B$6,7,1),Kasboek!$A$12:$A$511,"<"&DATE(Kasboek!$B$6,8,1),Kasboek!$G$12:$G$511,">0") | F12: =Kasboek!$B$7+SUMIFS(Kasboek!$F$12:$F$511,Kasboek!$A$12:$A$511,"<"&DATE(Kasboek!$B$6,8,1))-SUMIFS(Kasboek!$G$12:$G$511,Kasboek!$A$12:$A$511,"<"&DATE(Kasboek!$B$6,8,1)) | G12: =IF(F12<0,"Let op: negatief","")
A13: Augustus | B13: =SUMIFS(Kasboek!$F$12:$F$511,Kasboek!$A$12:$A$511,">="&DATE(Kasboek!$B$6,8,1),Kasboek!$A$12:$A$511,"<"&DATE(Kasboek!$B$6,9,1)) | C13: =SUMIFS(Kasboek!$G$12:$G$511,Kasboek!$A$12:$A$511,">="&DATE(Kasboek!$B$6,8,1),Kasboek!$A$12:$A$511,"<"&DATE(Kasboek!$B$6,9,1)) | D13: =SUMIFS(Kasboek!$H$12:$H$511,Kasboek!$A$12:$A$511,">="&DATE(Kasboek!$B$6,8,1),Kasboek!$A$12:$A$511,"<"&DATE(Kasboek!$B$6,9,1),Kasboek!$F$12:$F$511,">0") | E13: =SUMIFS(Kasboek!$H$12:$H$511,Kasboek!$A$12:$A$511,">="&DATE(Kasboek!$B$6,8,1),Kasboek!$A$12:$A$511,"<"&DATE(Kasboek!$B$6,9,1),Kasboek!$G$12:$G$511,">0") | F13: =Kasboek!$B$7+SUMIFS(Kasboek!$F$12:$F$511,Kasboek!$A$12:$A$511,"<"&DATE(Kasboek!$B$6,9,1))-SUMIFS(Kasboek!$G$12:$G$511,Kasboek!$A$12:$A$511,"<"&DATE(Kasboek!$B$6,9,1)) | G13: =IF(F13<0,"Let op: negatief","")
A14: September | B14: =SUMIFS(Kasboek!$F$12:$F$511,Kasboek!$A$12:$A$511,">="&DATE(Kasboek!$B$6,9,1),Kasboek!$A$12:$A$511,"<"&DATE(Kasboek!$B$6,10,1)) | C14: =SUMIFS(Kasboek!$G$12:$G$511,Kasboek!$A$12:$A$511,">="&DATE(Kasboek!$B$6,9,1),Kasboek!$A$12:$A$511,"<"&DATE(Kasboek!$B$6,10,1)) | D14: =SUMIFS(Kasboek!$H$12:$H$511,Kasboek!$A$12:$A$511,">="&DATE(Kasboek!$B$6,9,1),Kasboek!$A$12:$A$511,"<"&DATE(Kasboek!$B$6,10,1),Kasboek!$F$12:$F$511,">0") | E14: =SUMIFS(Kasboek!$H$12:$H$511,Kasboek!$A$12:$A$511,">="&DATE(Kasboek!$B$6,9,1),Kasboek!$A$12:$A$511,"<"&DATE(Kasboek!$B$6,10,1),Kasboek!$G$12:$G$511,">0") | F14: =Kasboek!$B$7+SUMIFS(Kasboek!$F$12:$F$511,Kasboek!$A$12:$A$511,"<"&DATE(Kasboek!$B$6,10,1))-SUMIFS(Kasboek!$G$12:$G$511,Kasboek!$A$12:$A$511,"<"&DATE(Kasboek!$B$6,10,1)) | G14: =IF(F14<0,"Let op: negatief","")
A15: Oktober | B15: =SUMIFS(Kasboek!$F$12:$F$511,Kasboek!$A$12:$A$511,">="&DATE(Kasboek!$B$6,10,1),Kasboek!$A$12:$A$511,"<"&DATE(Kasboek!$B$6,11,1)) | C15: =SUMIFS(Kasboek!$G$12:$G$511,Kasboek!$A$12:$A$511,">="&DATE(Kasboek!$B$6,10,1),Kasboek!$A$12:$A$511,"<"&DATE(Kasboek!$B$6,11,1)) | D15: =SUMIFS(Kasboek!$H$12:$H$511,Kasboek!$A$12:$A$511,">="&DATE(Kasboek!$B$6,10,1),Kasboek!$A$12:$A$511,"<"&DATE(Kasboek!$B$6,11,1),Kasboek!$F$12:$F$511,">0") | E15: =SUMIFS(Kasboek!$H$12:$H$511,Kasboek!$A$12:$A$511,">="&DATE(Kasboek!$B$6,10,1),Kasboek!$A$12:$A$511,"<"&DATE(Kasboek!$B$6,11,1),Kasboek!$G$12:$G$511,">0") | F15: =Kasboek!$B$7+SUMIFS(Kasboek!$F$12:$F$511,Kasboek!$A$12:$A$511,"<"&DATE(Kasboek!$B$6,11,1))-SUMIFS(Kasboek!$G$12:$G$511,Kasboek!$A$12:$A$511,"<"&DATE(Kasboek!$B$6,11,1)) | G15: =IF(F15<0,"Let op: negatief","")
A16: November | B16: =SUMIFS(Kasboek!$F$12:$F$511,Kasboek!$A$12:$A$511,">="&DATE(Kasboek!$B$6,11,1),Kasboek!$A$12:$A$511,"<"&DATE(Kasboek!$B$6,12,1)) | C16: =SUMIFS(Kasboek!$G$12:$G$511,Kasboek!$A$12:$A$511,">="&DATE(Kasboek!$B$6,11,1),Kasboek!$A$12:$A$511,"<"&DATE(Kasboek!$B$6,12,1)) | D16: =SUMIFS(Kasboek!$H$12:$H$511,Kasboek!$A$12:$A$511,">="&DATE(Kasboek!$B$6,11,1),Kasboek!$A$12:$A$511,"<"&DATE(Kasboek!$B$6,12,1),Kasboek!$F$12:$F$511,">0") | E16: =SUMIFS(Kasboek!$H$12:$H$511,Kasboek!$A$12:$A$511,">="&DATE(Kasboek!$B$6,11,1),Kasboek!$A$12:$A$511,"<"&DATE(Kasboek!$B$6,12,1),Kasboek!$G$12:$G$511,">0") | F16: =Kasboek!$B$7+SUMIFS(Kasboek!$F$12:$F$511,Kasboek!$A$12:$A$511,"<"&DATE(Kasboek!$B$6,12,1))-SUMIFS(Kasboek!$G$12:$G$511,Kasboek!$A$12:$A$511,"<"&DATE(Kasboek!$B$6,12,1)) | G16: =IF(F16<0,"Let op: negatief","")
A17: December | B17: =SUMIFS(Kasboek!$F$12:$F$511,Kasboek!$A$12:$A$511,">="&DATE(Kasboek!$B$6,12,1),Kasboek!$A$12:$A$511,"<"&DATE(Kasboek!$B$6+1,1,1)) | C17: =SUMIFS(Kasboek!$G$12:$G$511,Kasboek!$A$12:$A$511,">="&DATE(Kasboek!$B$6,12,1),Kasboek!$A$12:$A$511,"<"&DATE(Kasboek!$B$6+1,1,1)) | D17: =SUMIFS(Kasboek!$H$12:$H$511,Kasboek!$A$12:$A$511,">="&DATE(Kasboek!$B$6,12,1),Kasboek!$A$12:$A$511,"<"&DATE(Kasboek!$B$6+1,1,1),Kasboek!$F$12:$F$511,">0") | E17: =SUMIFS(Kasboek!$H$12:$H$511,Kasboek!$A$12:$A$511,">="&DATE(Kasboek!$B$6,12,1),Kasboek!$A$12:$A$511,"<"&DATE(Kasboek!$B$6+1,1,1),Kasboek!$G$12:$G$511,">0") | F17: =Kasboek!$B$7+SUMIFS(Kasboek!$F$12:$F$511,Kasboek!$A$12:$A$511,"<"&DATE(Kasboek!$B$6+1,1,1))-SUMIFS(Kasboek!$G$12:$G$511,Kasboek!$A$12:$A$511,"<"&DATE(Kasboek!$B$6+1,1,1)) | G17: =IF(F17<0,"Let op: negatief","")
A18: Totaal | B18: =SUM(B6:B17) | C18: =SUM(C6:C17) | D18: =SUM(D6:D17) | E18: =SUM(E6:E17)

Sheet Uitleg
H1: zorgencijfers.nl · 085 30 31 427
A2: Kasboek
A3: Zo gebruik je dit bestand
A6: Zo vul je het in
A7: • | B7: Vul bovenaan je bedrijfsnaam, het jaar en het beginsaldo van de kas in.
A8: • | B8: Schrijf elke contante ontvangst en uitgave op één regel, op volgorde van datum. Vul óf Ontvangst óf Uitgave in, niet allebei.
A9: • | B9: Kies de categorie en het btw-tarief. Excel rekent het btw-bedrag en het saldo uit.
A10: • | B10: Breng je contant geld naar de bank? Kies "Afstorting naar bank" en zet het bedrag bij Uitgave. Haal je geld van de bank voor de kas? Kies "Opname van bank" bij Ontvangst.
A12: Belangrijk
A13: • | B13: Een kas kan nooit negatief zijn. Kleurt het saldo rood, dan ontbreekt er een ontvangst of klopt een bedrag niet.
A14: • | B14: Tel regelmatig het geld in de kas en vergelijk het met het saldo. Verschillen? Zoek ze direct uit.
A15: • | B15: Bewaar alle bonnetjes en kassabonnen bij het kasboek (nummer ze gelijk aan het bonnummer) en bewaar alles 7 jaar.
A16: • | B16: Het blad Per maand geeft de totalen voor je btw-aangifte. Lever het kasboek elk kwartaal bij ons aan.
A18: Vragen? Bel 085 30 31 427, app ons of mail info@zorgencijfers.nl. Wij helpen je graag.
